BEGIN:VCALENDAR
VERSION:2.0
PRODID:-//ChamberMaster//Event Calendar 2.0//EN
METHOD:PUBLISH
X-PUBLISHED-TTL:P1H
REFRESH-INTERVAL:P1H
CALSCALE:GREGORIAN
BEGIN:VTIMEZONE
TZID:America/New_York
BEGIN:DAYLIGHT
RRULE:FREQ=YEARLY;BYMONTH=3;BYDAY=2SU
DTSTART:20070101T000000
TZOFFSETFROM:-0500
TZOFFSETTO:-0400
TZNAME:Eastern Daylight Time
END:DAYLIGHT
BEGIN:STANDARD
RRULE:FREQ=YEARLY;BYMONTH=11;BYDAY=1SU
DTSTART:20070101T000000
TZOFFSETFROM:-0400
TZOFFSETTO:-0500
TZNAME:Eastern Standard Time
END:STANDARD
END:VTIMEZONE
BEGIN:VEVENT
DTSTART;TZID=America/New_York:20260423T121500
DTEND;TZID=America/New_York:20260427T140000
X-MICROSOFT-CDO-ALLDAYEVENT:FALSE
SUMMARY:Ontario Career Lab
DESCRIPTION:Join the Conversation! Powered by HIEC\, Ontario Career Lab is hosting Career Conversations with Grade 9 and 10 students across the province\, and your voice is needed! We are looking for volunteers who want to engage in small group conversations with students. Your career story can inspire and ignite curiosity in students. By sharing your experiences\, you'll help broaden their perspective on the world of work\, connect with fellow community members and play a vital role in shaping the next generation.Date: Thursday\, April 23rdTime: 12:15-2:00pmLocation: In-person at a local secondary school\nSession Focus:  Career conversations with studentsDate: Monday\, April 27thTime: 10:50am-12:10pmLocation: In-person at a local secondary school\nSession Focus:  Career conversations with studentsIf you are interested\, please sign up as a career coach using this link here: https://ontariocareerlab.ca/coachsignup
X-ALT-DESC;FMTTYPE=text/html:<!DOCTYPE html><html><head><title></title></head><body aria-disabled="false"><p><meta charset="utf-8"><strong fr-original-style="" style="font-weight: 700\;"><span style="font-family: Arial\, Helvetica\, sans-serif\; font-size: 14px\;">Join the Conversation!&nbsp\;</span></strong><span style="font-size: 14px\;"><span style="font-family: Arial\,Helvetica\,sans-serif\;">Powered by HIEC\, Ontario Career Lab is hosting Career Conversations with Grade 9 and 10 students across the province\, and your voice is needed! We are looking for volunteers who want to engage in small group conversations with students. Your career story can inspire and ignite curiosity in students. By sharing your experiences\, you&#39\;ll help broaden their perspective on the world of work\, connect with fellow community members and play a vital role in shaping the next generation.</span></span></p><div style="color: rgb(34\, 34\, 34)\; font-family: Arial\, Helvetica\, sans-serif\; font-size: small\; font-style: normal\; font-variant-ligatures: normal\; font-variant-caps: normal\; font-weight: 400\; letter-spacing: normal\; orphans: 2\; text-align: start\; text-indent: 0px\; text-transform: none\; widows: 2\; word-spacing: 0px\; -webkit-text-stroke-width: 0px\; white-space: normal\; background-color: rgb(255\, 255\, 255)\; text-decoration-thickness: initial\; text-decoration-style: initial\; text-decoration-color: initial\;"><ul fr-original-style="" style="list-style-position: inside\;"><li style="margin-left: 15px\; font-family: Arial\, Helvetica\, sans-serif\; font-size: 14px\;"><span style="color: rgb(0\, 0\, 0)\;"><strong fr-original-style="" style="font-weight: 700\;">Date: Thursday\, April 23rd</strong></span></li><li style="margin-left: 15px\; font-family: Arial\, Helvetica\, sans-serif\; font-size: 14px\;"><span style="color: rgb(0\, 0\, 0)\;"><strong fr-original-style="" style="font-weight: 700\;">Time:</strong> 12:15-2:00pm</span></li><li style="margin-left: 15px\; font-family: Arial\, Helvetica\, sans-serif\; font-size: 14px\;"><span style="color: rgb(0\, 0\, 0)\;"><strong fr-original-style="" style="font-weight: 700\;">Location:</strong> In-person at a local secondary school<br></span></li><li style="margin-left: 15px\; font-family: Arial\, Helvetica\, sans-serif\; font-size: 14px\;"><span style="color: rgb(0\, 0\, 0)\;"><strong fr-original-style="" style="font-weight: 700\;">Session Focus:</strong> <strong fr-original-style="" style="font-weight: 700\;">&nbsp\;</strong>Career conversations with students</span></li></ul></div><div style="color: rgb(34\, 34\, 34)\; font-family: Arial\, Helvetica\, sans-serif\; font-size: small\; font-style: normal\; font-variant-ligatures: normal\; font-variant-caps: normal\; font-weight: 400\; letter-spacing: normal\; orphans: 2\; text-align: start\; text-indent: 0px\; text-transform: none\; widows: 2\; word-spacing: 0px\; -webkit-text-stroke-width: 0px\; white-space: normal\; background-color: rgb(255\, 255\, 255)\; text-decoration-thickness: initial\; text-decoration-style: initial\; text-decoration-color: initial\;"><ul fr-original-style="" style="list-style-position: inside\;"><li style="margin-left: 15px\; font-family: Arial\, Helvetica\, sans-serif\; font-size: 14px\;"><span style="color: rgb(0\, 0\, 0)\;"><strong fr-original-style="" style="font-weight: 700\;">Date: Monday\, April 27th</strong></span></li><li style="margin-left: 15px\; font-family: Arial\, Helvetica\, sans-serif\; font-size: 14px\;"><span style="color: rgb(0\, 0\, 0)\;"><strong fr-original-style="" style="font-weight: 700\;">Time:</strong> 10:50am-12:10pm</span></li><li style="margin-left: 15px\; font-family: Arial\, Helvetica\, sans-serif\; font-size: 14px\;"><span style="color: rgb(0\, 0\, 0)\;"><strong fr-original-style="" style="font-weight: 700\;">Location:</strong> In-person at a local secondary school<br></span></li><li style="margin-left: 15px\; font-family: Arial\, Helvetica\, sans-serif\; font-size: 14px\;"><span style="color: rgb(0\, 0\, 0)\;"><strong fr-original-style="" style="font-weight: 700\;">Session Focus:</strong> <strong fr-original-style="" style="font-weight: 700\;">&nbsp\;</strong>Career conversations with students</span></li></ul><p><span style="color: rgb(0\, 0\, 0)\; font-family: Arial\, Helvetica\, sans-serif\;"><span style="font-size: 14px\;"><span style="color: rgb(34\, 34\, 34)\; font-style: normal\; font-variant-ligatures: normal\; font-variant-caps: normal\; font-weight: 400\; letter-spacing: normal\; orphans: 2\; text-align: start\; text-indent: 0px\; text-transform: none\; widows: 2\; word-spacing: 0px\; -webkit-text-stroke-width: 0px\; white-space: normal\; background-color: rgb(255\, 255\, 255)\; text-decoration-thickness: initial\; text-decoration-style: initial\; text-decoration-color: initial\; float: none\; display: inline !important\;">If you are interested\, please sign up as a career coach using this link here:&nbsp\;</span></span><a data-saferedirecturl="https://www.google.com/url?q=https://ontariocareerlab.ca/coachsignup&source=gmail&ust=1776538466829000&usg=AOvVaw1V0egxQLlk4r06IUXrCKG-" fr-original-style='color: rgb(17\, 85\, 204)\; font-family: "Helvetica Neue"\; font-size: small\; font-style: normal\; font-variant-ligatures: normal\; font-variant-caps: normal\; font-weight: 400\; letter-spacing: normal\; orphans: 2\; text-align: start\; text-indent: 0px\; text-transform: none\; widows: 2\; word-spacing: 0px\; -webkit-text-stroke-width: 0px\; white-space: normal\; background-color: rgb(255\, 255\, 255)\;' href="https://ontariocareerlab.ca/coachsignup" style='color: rgb(17\, 85\, 204)\; font-family: "Helvetica Neue"\; font-size: small\; font-style: normal\; font-variant-ligatures: normal\; font-variant-caps: normal\; font-weight: 400\; letter-spacing: normal\; orphans: 2\; text-align: start\; text-indent: 0px\; text-transform: none\; widows: 2\; word-spacing: 0px\; -webkit-text-stroke-width: 0px\; white-space: normal\; background-color: rgb(255\, 255\, 255)\; user-select: auto\;' target="_blank"><strong fr-original-style="" style="font-weight: 700\;"><span style="font-size: 14px\;">https://<wbr>ontariocareerlab.ca/<wbr>coachsignup</span></strong></a></span><span style="color: rgb(0\, 0\, 0)\; font-family: Lato\, Tahoma\, sans-serif\;"> <br></span></p></div></body></html>
LOCATION:
UID:e.3102.1445716
SEQUENCE:3
DTSTAMP:20260420T143104Z
URL:https://members.oshawachamber.com/events/Details/ontario-career-lab-1712371?sourceTypeId=Hub
END:VEVENT
END:VCALENDAR
